BEGIN:VCALENDAR
VERSION:2.0
PRODID:-//WebDiocesi - ECPv6.5.1.4//NONSGML v1.0//EN
CALSCALE:GREGORIAN
METHOD:PUBLISH
X-WR-CALNAME:WebDiocesi
X-ORIGINAL-URL:https://www.webdiocesi.it
X-WR-CALDESC:Eventi per WebDiocesi
REFRESH-INTERVAL;VALUE=DURATION:PT1H
X-Robots-Tag:noindex
X-PUBLISHED-TTL:PT1H
BEGIN:VTIMEZONE
TZID:Europe/Rome
BEGIN:DAYLIGHT
TZOFFSETFROM:+0100
TZOFFSETTO:+0200
TZNAME:CEST
DTSTART:20160327T010000
END:DAYLIGHT
BEGIN:STANDARD
TZOFFSETFROM:+0200
TZOFFSETTO:+0100
TZNAME:CET
DTSTART:20161030T010000
END:STANDARD
BEGIN:DAYLIGHT
TZOFFSETFROM:+0100
TZOFFSETTO:+0200
TZNAME:CEST
DTSTART:20170326T010000
END:DAYLIGHT
BEGIN:STANDARD
TZOFFSETFROM:+0200
TZOFFSETTO:+0100
TZNAME:CET
DTSTART:20171029T010000
END:STANDARD
BEGIN:DAYLIGHT
TZOFFSETFROM:+0100
TZOFFSETTO:+0200
TZNAME:CEST
DTSTART:20180325T010000
END:DAYLIGHT
BEGIN:STANDARD
TZOFFSETFROM:+0200
TZOFFSETTO:+0100
TZNAME:CET
DTSTART:20181028T010000
END:STANDARD
BEGIN:DAYLIGHT
TZOFFSETFROM:+0100
TZOFFSETTO:+0200
TZNAME:CEST
DTSTART:20190331T010000
END:DAYLIGHT
BEGIN:STANDARD
TZOFFSETFROM:+0200
TZOFFSETTO:+0100
TZNAME:CET
DTSTART:20191027T010000
END:STANDARD
END:VTIMEZONE
BEGIN:VEVENT
DTSTART;TZID=Europe/Rome:20190917T100000
DTEND;TZID=Europe/Rome:20190918T183000
DTSTAMP:20260425T161721
CREATED:20190122T094351Z
LAST-MODIFIED:20190122T094351Z
UID:1081-1568714400-1568831400@www.webdiocesi.it
SUMMARY:Corso Base WordPress per WebDiocesi
DESCRIPTION:Il corso intende fornire alle diocesi che stanno rinnovando il sito web diocesano o a chi lo sta per realizzare\, una panoramica delle nuove proposte del SICEI\, la definizione di un percorso pratico per la progettazione e la realizzazione del sito e esercitazioni pratice all’utilizzo del sistema di gestione dei contenuti attraverso il CMS WordPress adottato dal SICEI. \nRivolto agli incaricati diocesani che si occupano del sito web\, che hanno una buona conoscenza e sensibilità nella comunicazione online\, agli incaricati diocesani che hanno già utilizzato in precedenza altri sistemi Webdiocesi.\nTutti gli aggiornamenti del servizio su https://www.webdiocesi.it/\nNon sono richieste conoscenze specifiche di sviluppo di siti Web e non è requisito indispensabile la conoscenza dell´HTML né di altri linguaggi di web publishing. \ncondividi su
URL:https://www.webdiocesi.it/event/corso-base-wordpress-per-webdiocesi-4/
LOCATION:Aula Corsi SICEI\, Via Aurelia\, 468\, Roma\, Italia
END:VEVENT
BEGIN:VEVENT
DTSTART;TZID=Europe/Rome:20190611T100000
DTEND;TZID=Europe/Rome:20190612T183000
DTSTAMP:20260425T161721
CREATED:20190122T094548Z
LAST-MODIFIED:20190329T082327Z
UID:1083-1560247200-1560364200@www.webdiocesi.it
SUMMARY:Corso Avanzato WordPress per WebDiocesi
DESCRIPTION:Il corso intende fornire alle diocesi che hanno rinnovato il sito web diocesano o a chi lo sta per realizzare\, un corso avanzato per la progettazione e la realizzazione del sito e esercitazioni pratice all’utilizzo del sistema di gestione dei contenuti attraverso il CMS WordPress adottato dal SICEI. \nQuesto corso è utile per imparare ad approfondire l’uso di WordPress in tutte le sue sfumature. \nRivolto agli incaricati diocesani che si occupano del sito web\, che hanno una buona conoscenza e sensibilità nella comunicazione online\, agli incaricati diocesani che hanno già utilizzato in precedenza altri sistemi Webdiocesi.\nTutti gli aggiornamenti del servizio su https://www.webdiocesi.it/\nOltre ad una buona padronanza dell’utilizzo del computer e della navigazione su Internet\, per seguire con profitto il corso è richiesta una buona conoscenza dei principi di web publishing (in particolare HTML/CSS)\,  o aver frequentato il nostro Corso Base WordPress. \ncondividi su
URL:https://www.webdiocesi.it/event/corso-avanzato-wordpress-per-webdiocesi-2/
LOCATION:Aula Corsi SICEI\, Via Aurelia\, 468\, Roma\, Italia
END:VEVENT
BEGIN:VEVENT
DTSTART;TZID=Europe/Rome:20190219T100000
DTEND;TZID=Europe/Rome:20190220T183000
DTSTAMP:20260425T161721
CREATED:20190122T094230Z
LAST-MODIFIED:20190122T094230Z
UID:1079-1550570400-1550687400@www.webdiocesi.it
SUMMARY:Corso Base WordPress per WebDiocesi
DESCRIPTION:Il corso intende fornire alle diocesi che stanno rinnovando il sito web diocesano o a chi lo sta per realizzare\, una panoramica delle nuove proposte del SICEI\, la definizione di un percorso pratico per la progettazione e la realizzazione del sito e esercitazioni pratice all’utilizzo del sistema di gestione dei contenuti attraverso il CMS WordPress adottato dal SICEI. \nRivolto agli incaricati diocesani che si occupano del sito web\, che hanno una buona conoscenza e sensibilità nella comunicazione online\, agli incaricati diocesani che hanno già utilizzato in precedenza altri sistemi Webdiocesi.\nTutti gli aggiornamenti del servizio su https://www.webdiocesi.it/\nNon sono richieste conoscenze specifiche di sviluppo di siti Web e non è requisito indispensabile la conoscenza dell´HTML né di altri linguaggi di web publishing. \ncondividi su
URL:https://www.webdiocesi.it/event/corso-base-wordpress-per-webdiocesi-3/
LOCATION:Aula Corsi SICEI\, Via Aurelia\, 468\, Roma\, Italia
END:VEVENT
BEGIN:VEVENT
DTSTART;TZID=Europe/Rome:20180918T093000
DTEND;TZID=Europe/Rome:20180919T180000
DTSTAMP:20260425T161721
CREATED:20180103T103600Z
LAST-MODIFIED:20180103T103636Z
UID:615-1537263000-1537380000@www.webdiocesi.it
SUMMARY:Corso Base Wordpress per WebDiocesi
DESCRIPTION:Il corso intende fornire alle diocesi che stanno rinnovando il sito web diocesano o a chi lo sta per realizzare\, una panoramica delle nuove proposte del SICEI\, la definizione di un percorso pratico per la progettazione e la realizzazione del sito e esercitazioni pratice all’utilizzo del sistema di gestione dei contenuti attraverso il CMS WordPress adottato dal SICEI. \nRivolto agli incaricati diocesani che si occupano del sito web\, che hanno una buona conoscenza e sensibilità nella comunicazione online\, agli incaricati diocesani che hanno già utilizzato in precedenza altri sistemi Webdiocesi.\nTutti gli aggiornamenti del servizio su https://www.webdiocesi.it/\nNon sono richieste conoscenze specifiche di sviluppo di siti Web e non è requisito indispensabile la conoscenza dell´HTML né di altri linguaggi di web publishing. \ncondividi su
URL:https://www.webdiocesi.it/event/corso-base-wordpress-per-webdiocesi-2/
LOCATION:Aula Corsi SICEI\, Via Aurelia\, 468\, Roma\, Italia
END:VEVENT
BEGIN:VEVENT
DTSTART;TZID=Europe/Rome:20180508T093000
DTEND;TZID=Europe/Rome:20180509T180000
DTSTAMP:20260425T161721
CREATED:20180103T103743Z
LAST-MODIFIED:20180418T090906Z
UID:619-1525771800-1525888800@www.webdiocesi.it
SUMMARY:Corso Avanzato Wordpress per WebDiocesi
DESCRIPTION:Il corso intende fornire alle diocesi che hanno rinnovato il sito web diocesano o a chi lo sta per realizzare\, un corso avanzato per la progettazione e la realizzazione del sito e esercitazioni pratice all’utilizzo del sistema di gestione dei contenuti attraverso il CMS WordPress adottato dal SICEI. \nQuesto corso è utile per imparare ad approfondire l’uso di WordPress in tutte le sue sfumature. \nRivolto agli incaricati diocesani che si occupano del sito web\, che hanno una buona conoscenza e sensibilità nella comunicazione online\, agli incaricati diocesani che hanno già utilizzato in precedenza altri sistemi Webdiocesi.\nTutti gli aggiornamenti del servizio su https://www.webdiocesi.it/\nOltre ad una buona padronanza dell’utilizzo del computer e della navigazione su Internet\, per seguire con profitto il corso è richiesta una buona conoscenza dei principi di web publishing (in particolare HTML/CSS)\,  o aver frequentato il nostro Corso Base WordPress. \nLink diretto per l’iscrizione  http://banchedati.chiesacattolica.it/pls/cci_new_v3/cciv4_edit_app.subAppuntamenti?p_id=17296 \ncondividi su
URL:https://www.webdiocesi.it/event/corso-avanzato-wordpress-per-webdiocesi/
LOCATION:Aula Corsi SICEI\, Via Aurelia\, 468\, Roma\, Italia
END:VEVENT
BEGIN:VEVENT
DTSTART;TZID=Europe/Rome:20180219T093000
DTEND;TZID=Europe/Rome:20180220T180000
DTSTAMP:20260425T161721
CREATED:20180103T103150Z
LAST-MODIFIED:20180103T103646Z
UID:612-1519032600-1519149600@www.webdiocesi.it
SUMMARY:Corso Base Wordpress per WebDiocesi
DESCRIPTION:Il corso intende fornire alle diocesi che stanno rinnovando il sito web diocesano o a chi lo sta per realizzare\, una panoramica delle nuove proposte del SICEI\, la definizione di un percorso pratico per la progettazione e la realizzazione del sito e esercitazioni pratice all’utilizzo del sistema di gestione dei contenuti attraverso il CMS WordPress adottato dal SICEI. \nRivolto agli incaricati diocesani che si occupano del sito web\, che hanno una buona conoscenza e sensibilità nella comunicazione online\, agli incaricati diocesani che hanno già utilizzato in precedenza altri sistemi Webdiocesi.\nTutti gli aggiornamenti del servizio su https://www.webdiocesi.it/\nNon sono richieste conoscenze specifiche di sviluppo di siti Web e non è requisito indispensabile la conoscenza dell´HTML né di altri linguaggi di web publishing. \ncondividi su
URL:https://www.webdiocesi.it/event/corso-base-wordpress-per-webdiocesi/
LOCATION:Aula Corsi SICEI\, Via Aurelia\, 468\, Roma\, Italia
END:VEVENT
BEGIN:VEVENT
DTSTART;TZID=Europe/Rome:20171004T090000
DTEND;TZID=Europe/Rome:20171005T180000
DTSTAMP:20260425T161721
CREATED:20170508T081331Z
LAST-MODIFIED:20170712T085056Z
UID:397-1507107600-1507226400@www.webdiocesi.it
SUMMARY:WordPress Sito web diocesano
DESCRIPTION:Per iscriversi: \nhttp://www.iniziative.chiesacattolica.it/EventiCEI/page.jsp?action=landing&eventid=CEI-APPUNTAMENTO-16908 \ncondividi su
URL:https://www.webdiocesi.it/event/wordpress-sito-web-diocesano-4/
LOCATION:Aula Corsi SICEI\, Via Aurelia\, 468\, Roma\, Italia
END:VEVENT
BEGIN:VEVENT
DTSTART;TZID=Europe/Rome:20170627T090000
DTEND;TZID=Europe/Rome:20170628T180000
DTSTAMP:20260425T161721
CREATED:20170508T075527Z
LAST-MODIFIED:20170531T083652Z
UID:394-1498554000-1498672800@www.webdiocesi.it
SUMMARY:WordPress Sito web diocesano
DESCRIPTION:Per iscriversi: \nhttp://www.iniziative.chiesacattolica.it/EventiCEI/page.jsp?action=landing&eventid=CEI-APPUNTAMENTO-16908 \n  \ncondividi su
URL:https://www.webdiocesi.it/event/wordpress-sito-web-diocesano-3/
LOCATION:Aula Corsi SICEI\, Via Aurelia\, 468\, Roma\, Italia
END:VEVENT
BEGIN:VEVENT
DTSTART;VALUE=DATE:20170115
DTEND;VALUE=DATE:20170116
DTSTAMP:20260425T161721
CREATED:20161003T150324Z
LAST-MODIFIED:20161222T091855Z
UID:182-1484438400-1484524799@www.webdiocesi.it
SUMMARY:WEBINAR: Pillole di Wordpress Avanzato
DESCRIPTION:condividi su
URL:https://www.webdiocesi.it/event/webinar-pillole-di-wordpress-avanzato/
END:VEVENT
BEGIN:VEVENT
DTSTART;TZID=Europe/Rome:20161129T100000
DTEND;TZID=Europe/Rome:20161130T170000
DTSTAMP:20260425T161721
CREATED:20161019T082322Z
LAST-MODIFIED:20161114T081439Z
UID:231-1480413600-1480525200@www.webdiocesi.it
SUMMARY:WordPress Sito web diocesano
DESCRIPTION:condividi su
URL:https://www.webdiocesi.it/event/wordpress-sito-web-diocesano-2/
LOCATION:Aula Corsi SICEI\, Via Aurelia\, 468\, Roma\, Italia
END:VEVENT
BEGIN:VEVENT
DTSTART;TZID=Europe/Rome:20161005T100000
DTEND;TZID=Europe/Rome:20161006T170000
DTSTAMP:20260425T161721
CREATED:20160929T151059Z
LAST-MODIFIED:20160929T151059Z
UID:39-1475661600-1475773200@www.webdiocesi.it
SUMMARY:Wordpress Sito web diocesano
DESCRIPTION:condividi su
URL:https://www.webdiocesi.it/event/wordpress-sito-web-diocesano/
LOCATION:Aula Corsi SICEI\, Via Aurelia\, 468\, Roma\, Italia
END:VEVENT
END:VCALENDAR